BEGIN:VCALENDAR
VERSION:2.0
PRODID:-//Club de Tennis de Table de Spay - ECPv6.2.6//NONSGML v1.0//EN
CALSCALE:GREGORIAN
METHOD:PUBLISH
X-WR-CALNAME:Club de Tennis de Table de Spay
X-ORIGINAL-URL:https://pingspay.fr
X-WR-CALDESC:évènements pour Club de Tennis de Table de Spay
REFRESH-INTERVAL;VALUE=DURATION:PT1H
X-Robots-Tag:noindex
X-PUBLISHED-TTL:PT1H
BEGIN:VTIMEZONE
TZID:Europe/Paris
BEGIN:DAYLIGHT
TZOFFSETFROM:+0100
TZOFFSETTO:+0200
TZNAME:CEST
DTSTART:20190331T010000
END:DAYLIGHT
BEGIN:STANDARD
TZOFFSETFROM:+0200
TZOFFSETTO:+0100
TZNAME:CET
DTSTART:20191027T010000
END:STANDARD
END:VTIMEZONE
BEGIN:VEVENT
DTSTART;TZID=Europe/Paris:20190903T173000
DTEND;TZID=Europe/Paris:20190903T200000
DTSTAMP:20260423T140228
CREATED:20190713T093901Z
LAST-MODIFIED:20190713T093901Z
UID:1520-1567531800-1567540800@pingspay.fr
SUMMARY:Reprise des entrainements
DESCRIPTION:
URL:https://pingspay.fr/lagenda/reprise-des-entrainements-2/
CATEGORIES:Vie de l'association
END:VEVENT
END:VCALENDAR